BEGIN:VCALENDAR
VERSION:2.0
PRODID:-//Council of Bishops//NONSGML v1.0//EN
BEGIN:VTIMEZONE
TZID:America/New_York
X-LIC - LOCATION:America/New_York
BEGIN:DAYLIGHT
TZOFFSETFROM:-0500
TZOFFSETTO:-0400
TZNAME:Eastern Daylight Time
DTSTART:20070101T000000
RRULE:FREQ=YEARLY;BYDAY=2SU;BYMONTH=3
END:DAYLIGHT
BEGIN:STANDARD
TZOFFSETFROM:-0400
TZOFFSETTO:-0500
TZNAME:Eastern Standard Time
DTSTART:20070101T000000
RRULE:FREQ=YEARLY;BYDAY=1SU;BYMONTH=11
END:STANDARD
END:VTIMEZONE
BEGIN:VEVENT
DTSTART;TZID=America/New_York:20211028
DTSTAMP:20210915T160026
UID:15292744
SUMMARY:COB Executive Committee - Virtual Meeting
DESCRIPTION:The meeting will be held from 9:00 a.m. - 1:00 p.m. / 
 ET Details and meeti
 ng materials will be sent prior to the meeting. 
END:VEVENT
END:VCALENDAR