BEGIN:VCALENDAR
VERSION:2.0
PRODID:-//Council of Bishops//NONSGML v1.0//EN
BEGIN:VTIMEZONE
TZID:America/New_York
X-LIC - LOCATION:America/New_York
BEGIN:DAYLIGHT
TZOFFSETFROM:-0500
TZOFFSETTO:-0400
TZNAME:Eastern Daylight Time
DTSTART:20070101T000000
RRULE:FREQ=YEARLY;BYDAY=2SU;BYMONTH=3
END:DAYLIGHT
BEGIN:STANDARD
TZOFFSETFROM:-0400
TZOFFSETTO:-0500
TZNAME:Eastern Standard Time
DTSTART:20070101T000000
RRULE:FREQ=YEARLY;BYDAY=1SU;BYMONTH=11
END:STANDARD
END:VTIMEZONE
BEGIN:VEVENT
DTSTART;TZID=America/New_York:20211110
DTEND;TZID=America/New_York:20211112T235959
DTSTAMP:20210915T164022
UID:15267757
SUMMARY:NCCC in the USA Governing Board Meeting and Christian 
 Unity Gathering
DESCRIPTION:National Council of the Churches of Christ in the USA 
 Governing Board Meet
 ing and Christian Unity Gathering  
END:VEVENT
END:VCALENDAR