BEGIN:VCALENDAR
VERSION:2.0
PRODID:-//Council of Bishops//NONSGML v1.0//EN
BEGIN:VTIMEZONE
TZID:America/New_York
X-LIC - LOCATION:America/New_York
BEGIN:DAYLIGHT
TZOFFSETFROM:-0500
TZOFFSETTO:-0400
TZNAME:Eastern Daylight Time
DTSTART:20070101T000000
RRULE:FREQ=YEARLY;BYDAY=2SU;BYMONTH=3
END:DAYLIGHT
BEGIN:STANDARD
TZOFFSETFROM:-0400
TZOFFSETTO:-0500
TZNAME:Eastern Standard Time
DTSTART:20070101T000000
RRULE:FREQ=YEARLY;BYDAY=1SU;BYMONTH=11
END:STANDARD
END:VTIMEZONE
BEGIN:VEVENT
DTSTART;TZID=America/New_York:20211026
DTSTAMP:20210915T160011
UID:15267590
SUMMARY:Religions for Peace\, International World Council Meet
 ing
DESCRIPTION:Religions for Peace\, International World Council Meet
 ing-virtual
END:VEVENT
END:VCALENDAR