BEGIN:VCALENDAR
VERSION:2.0
PRODID:-//Council of Bishops//NONSGML v1.0//EN

BEGIN:VTIMEZONE
TZID:America/New_York
X-LIC - LOCATION:America/New_York
BEGIN:DAYLIGHT
TZOFFSETFROM:-0500
TZOFFSETTO:-0400
TZNAME:Eastern Daylight Time
DTSTART:20070101T000000
RRULE:FREQ=YEARLY;BYDAY=2SU;BYMONTH=3
END:DAYLIGHT
BEGIN:STANDARD
TZOFFSETFROM:-0400
TZOFFSETTO:-0500
TZNAME:Eastern Standard Time
DTSTART:20070101T000000
RRULE:FREQ=YEARLY;BYDAY=1SU;BYMONTH=11
END:STANDARD
END:VTIMEZONE
BEGIN:VEVENT
DTSTART;TZID=America/New_York:20210806
DTSTAMP:20210927T000309Z
UID:15267571
SUMMARY:UMEIT: YAN
DESCRIPTION:UMEIT: Young Adult Network (YAN)  Virtual Gathering
END:VEVENT

BEGIN:VEVENT
DTSTART;TZID=America/New_York:20210919
DTEND;TZID=America/New_York:20210927
DTSTAMP:20210927T000309Z
UID:15267577
SUMMARY:UMEIT: YAN In person Gathering
DESCRIPTION:UMEIT: Young Adult Network in person Gathering
END:VEVENT

BEGIN:VEVENT
DTSTART;TZID=America/New_York:20211003
DTSTAMP:20210927T000309Z
UID:15267579
SUMMARY:World Communion Sunday
DESCRIPTION:World Communion Sunday
END:VEVENT

BEGIN:VEVENT
DTSTART;TZID=America/New_York:20211004
DTEND;TZID=America/New_York:20211009
DTSTAMP:20210927T000309Z
UID:15267580
SUMMARY:CCT Annual Forum
DESCRIPTION:Christian Churches Together-Annual Forum
END:VEVENT

BEGIN:VEVENT
DTSTART;TZID=America/New_York:20211010
DTEND;TZID=America/New_York:20211014
DTSTAMP:20210927T000309Z
UID:15267581
SUMMARY:NCCC in the USA Governing Board Meeting and Christian Unity Gathering
DESCRIPTION:National Council of the Churches of Christ in the USA Governing Board Meet
 ing and Christian Unity Gathering
END:VEVENT

BEGIN:VEVENT
DTSTART;TZID=America/New_York:20211014
DTEND;TZID=America/New_York:20211016
DTSTAMP:20210927T000309Z
UID:15267583
SUMMARY:European Methodist Council
DESCRIPTION:European Methodist Council 
END:VEVENT

BEGIN:VEVENT
DTSTART;TZID=America/New_York:20211014
DTEND;TZID=America/New_York:20211020
DTSTAMP:20210927T000309Z
UID:15267587
SUMMARY:Reformed Church of America General Synod
DESCRIPTION:RCA General Synod in Tucson\, Arizona
END:VEVENT

BEGIN:VEVENT
DTSTART;TZID=America/New_York:20211017
DTEND;TZID=America/New_York:20211019
DTSTAMP:20210927T000309Z
UID:15267584
SUMMARY:8th Parliament of the the World's Religions
DESCRIPTION:8th Parliament of the World's Religions
END:VEVENT

BEGIN:VEVENT
DTSTART;TZID=America/New_York:20211018
DTEND;TZID=America/New_York:20211023
DTSTAMP:20210927T000309Z
UID:15267585
SUMMARY:UMEIT: Puerto Rico
DESCRIPTION:UMEIT: Global Hosted by the UMC in Puerto Rico
END:VEVENT

BEGIN:VEVENT
DTSTART;TZID=America/New_York:20211019
DTSTAMP:20210927T000309Z
UID:15267586
SUMMARY:UMEIT: Zoom
DESCRIPTION:UMEIT: Zoom
END:VEVENT

BEGIN:VEVENT
DTSTART;TZID=America/New_York:20211023
DTEND;TZID=America/New_York:20211027
DTSTAMP:20210927T000309Z
UID:15267588
SUMMARY:MEOR Forum and Executive Director Installation
DESCRIPTION:Methodist Ecumenical Office in Rome Annual Forum and Executive Director In
 stallation
END:VEVENT

BEGIN:VEVENT
DTSTART;TZID=America/New_York:20211025
DTEND;TZID=America/New_York:20211028
DTSTAMP:20210927T000309Z
UID:15260627
SUMMARY:2021 Baltimore-Washington Annual Conference
DESCRIPTION:From https://www.bwcumc.org/events/2021-annual-conference/  The 237th sess
 ion of the Baltimore-Washington Conference will be held Monday – Wednesday
 \, Oct. 25-27\, 2021.  Presiding: Bishop LaTrelle Easterling The session i
 s scheduled to be held at the Hilton Hotel in Baltimore. However\, if coro
 navirus-related precautions are necessary to privilege human life\, portio
 ns of the conference may be held online. Flexibility will be paramount in 
 the planning of this meeting to ensure the safety of all members and visit
 ors.  The theme of this year’s session is “We are Still One: Standing\, Tr
 ansforming\, Rising.”  A PreConference Briefing will be held online Saturd
 ay\, Sept. 25\, from 9 a.m.  to noon.  The deadline for submitting resolut
 ions to be considered at the session is Aug. 2.  Resolutions should be sub
 mitted to the Conference Secretary\, Kevin Silberzahn\, at conferencesecre
 tary@bwcumc.org. Guidelines and the format for submitting the resolutions 
 is available online.   
END:VEVENT

BEGIN:VEVENT
DTSTART;TZID=America/New_York:20211025
DTSTAMP:20210927T000309Z
UID:15267589
SUMMARY:Religions for Peace, International Executive Committee Meeting
DESCRIPTION:Religions for Peace\, International Executive Committee Meeting
END:VEVENT

BEGIN:VEVENT
DTSTART;TZID=America/New_York:20211026
DTSTAMP:20210927T000309Z
UID:15267590
SUMMARY:Religions for Peace, International World Council Meeting
DESCRIPTION:Religions for Peace\, International World Council Meeting-virtual
END:VEVENT

BEGIN:VEVENT
DTSTART;TZID=America/New_York:20211110
DTEND;TZID=America/New_York:20211113
DTSTAMP:20210927T000309Z
UID:15267601
SUMMARY:UM Jurisdictional Conferences
DESCRIPTION:United Methodist Jurisdictional Conferences 
END:VEVENT

BEGIN:VEVENT
DTSTART;TZID=America/New_York:20211110
DTEND;TZID=America/New_York:20211113
DTSTAMP:20210927T000309Z
UID:15267757
SUMMARY:NCCC in the USA Governing Board Meeting and Christian Unity Gathering
DESCRIPTION:National Council of the Churches of Christ in the USA Governing Board Meet
 ing and Christian Unity Gathering  
END:VEVENT

BEGIN:VEVENT
DTSTART;TZID=America/New_York:20211115
DTSTAMP:20210927T000309Z
UID:15267758
SUMMARY:Methodist Church of Great Britain-UM Concordat Gathering
DESCRIPTION:MC of Britain-UM Concordat Gathering-Philadelphia\, PA
END:VEVENT

BEGIN:VEVENT
DTSTART;TZID=America/New_York:20211116
DTSTAMP:20210927T000309Z
UID:15267759
SUMMARY:UMEIT: Zoom
DESCRIPTION:
END:VEVENT

BEGIN:VEVENT
DTSTART;TZID=America/New_York:20211221
DTSTAMP:20210927T000309Z
UID:15267760
SUMMARY:UMEIT: Zoom
DESCRIPTION:
END:VEVENT

END:VCALENDAR